BEGIN:VCALENDAR
VERSION:2.0
PRODID:-//Kouvot | Kouvot Basket Oy - ECPv6.15.20//NONSGML v1.0//EN
CALSCALE:GREGORIAN
METHOD:PUBLISH
X-ORIGINAL-URL:https://kouvot.fi
X-WR-CALDESC:Tapahtumat Kouvot | Kouvot Basket Oy
REFRESH-INTERVAL;VALUE=DURATION:PT1H
X-Robots-Tag:noindex
X-PUBLISHED-TTL:PT1H
BEGIN:VTIMEZONE
TZID:Europe/Helsinki
BEGIN:DAYLIGHT
TZOFFSETFROM:+0200
TZOFFSETTO:+0300
TZNAME:EEST
DTSTART:20220327T010000
END:DAYLIGHT
BEGIN:STANDARD
TZOFFSETFROM:+0300
TZOFFSETTO:+0200
TZNAME:EET
DTSTART:20221030T010000
END:STANDARD
BEGIN:DAYLIGHT
TZOFFSETFROM:+0200
TZOFFSETTO:+0300
TZNAME:EEST
DTSTART:20230326T010000
END:DAYLIGHT
BEGIN:STANDARD
TZOFFSETFROM:+0300
TZOFFSETTO:+0200
TZNAME:EET
DTSTART:20231029T010000
END:STANDARD
BEGIN:DAYLIGHT
TZOFFSETFROM:+0200
TZOFFSETTO:+0300
TZNAME:EEST
DTSTART:20240331T010000
END:DAYLIGHT
BEGIN:STANDARD
TZOFFSETFROM:+0300
TZOFFSETTO:+0200
TZNAME:EET
DTSTART:20241027T010000
END:STANDARD
END:VTIMEZONE
BEGIN:VEVENT
DTSTART;TZID=Europe/Helsinki:20231103T183000
DTEND;TZID=Europe/Helsinki:20231103T203000
DTSTAMP:20260423T011413
CREATED:20230715T092751Z
LAST-MODIFIED:20230715T092751Z
UID:2693-1699036200-1699043400@kouvot.fi
SUMMARY:Kouvot - Salon Vilpas
DESCRIPTION:
URL:https://kouvot.fi/ottelu/kouvot-salon-vilpas-4/
LOCATION:MLL Areena\, Huovihongantie 5\, Kouvola\, 45200
CATEGORIES:Edustusjoukkueen kotiottelut
END:VEVENT
BEGIN:VEVENT
DTSTART;TZID=Europe/Helsinki:20231111T160000
DTEND;TZID=Europe/Helsinki:20231111T180000
DTSTAMP:20260423T011413
CREATED:20230715T092838Z
LAST-MODIFIED:20230715T092838Z
UID:2695-1699718400-1699725600@kouvot.fi
SUMMARY:Kataja Basket - Kouvot
DESCRIPTION:
URL:https://kouvot.fi/ottelu/kataja-basket-kouvot-4/
LOCATION:Motonet Areena\, Kisapolku 1\, Joensuu\, Pohjois-Karjala\, 80110\, Finland
CATEGORIES:Edustusjoukkueen vierasottelut
END:VEVENT
BEGIN:VEVENT
DTSTART;TZID=Europe/Helsinki:20231118T180000
DTEND;TZID=Europe/Helsinki:20231118T200000
DTSTAMP:20260423T011413
CREATED:20230715T092940Z
LAST-MODIFIED:20230715T092940Z
UID:2697-1700330400-1700337600@kouvot.fi
SUMMARY:Korihait - Kouvot
DESCRIPTION:
URL:https://kouvot.fi/ottelu/korihait-kouvot-3/
LOCATION:Uusikaupunki Areena\, Pohjoistullitie 3\, Uusikaupunki\, 23500
CATEGORIES:Edustusjoukkueen vierasottelut
END:VEVENT
BEGIN:VEVENT
DTSTART;TZID=Europe/Helsinki:20231124T183000
DTEND;TZID=Europe/Helsinki:20231124T203000
DTSTAMP:20260423T011413
CREATED:20230715T093025Z
LAST-MODIFIED:20230715T093049Z
UID:2699-1700850600-1700857800@kouvot.fi
SUMMARY:Kouvot - Helsinki Seagulls
DESCRIPTION:
URL:https://kouvot.fi/ottelu/kouvot-helsinki-seagulls-5/
LOCATION:MLL Areena\, Huovihongantie 5\, Kouvola\, 45200
CATEGORIES:Edustusjoukkueen kotiottelut
END:VEVENT
BEGIN:VEVENT
DTSTART;TZID=Europe/Helsinki:20231129T183000
DTEND;TZID=Europe/Helsinki:20231129T203000
DTSTAMP:20260423T011413
CREATED:20230715T093141Z
LAST-MODIFIED:20230715T093141Z
UID:2702-1701282600-1701289800@kouvot.fi
SUMMARY:Bisons Loimaa - Kouvot
DESCRIPTION:
URL:https://kouvot.fi/ottelu/bisons-loimaa-kouvot-2/
LOCATION:Loimaan liikuntahalli\, Puistokatu 16\, Loimaa\, 32200
CATEGORIES:Edustusjoukkueen vierasottelut
END:VEVENT
END:VCALENDAR