BEGIN:VCALENDAR
VERSION:2.0
PRODID:-//Kouvot | Kouvot Basket Oy - ECPv6.15.20//NONSGML v1.0//EN
CALSCALE:GREGORIAN
METHOD:PUBLISH
X-WR-CALNAME:Kouvot | Kouvot Basket Oy
X-ORIGINAL-URL:https://kouvot.fi
X-WR-CALDESC:Tapahtumat Kouvot | Kouvot Basket Oy
REFRESH-INTERVAL;VALUE=DURATION:PT1H
X-Robots-Tag:noindex
X-PUBLISHED-TTL:PT1H
BEGIN:VTIMEZONE
TZID:Europe/Helsinki
BEGIN:DAYLIGHT
TZOFFSETFROM:+0200
TZOFFSETTO:+0300
TZNAME:EEST
DTSTART:20230326T010000
END:DAYLIGHT
BEGIN:STANDARD
TZOFFSETFROM:+0300
TZOFFSETTO:+0200
TZNAME:EET
DTSTART:20231029T010000
END:STANDARD
BEGIN:DAYLIGHT
TZOFFSETFROM:+0200
TZOFFSETTO:+0300
TZNAME:EEST
DTSTART:20240331T010000
END:DAYLIGHT
BEGIN:STANDARD
TZOFFSETFROM:+0300
TZOFFSETTO:+0200
TZNAME:EET
DTSTART:20241027T010000
END:STANDARD
BEGIN:DAYLIGHT
TZOFFSETFROM:+0200
TZOFFSETTO:+0300
TZNAME:EEST
DTSTART:20250330T010000
END:DAYLIGHT
BEGIN:STANDARD
TZOFFSETFROM:+0300
TZOFFSETTO:+0200
TZNAME:EET
DTSTART:20251026T010000
END:STANDARD
END:VTIMEZONE
BEGIN:VEVENT
DTSTART;TZID=Europe/Helsinki:20240102T183000
DTEND;TZID=Europe/Helsinki:20240102T203000
DTSTAMP:20260422T225303
CREATED:20230715T093815Z
LAST-MODIFIED:20230715T093815Z
UID:2717-1704220200-1704227400@kouvot.fi
SUMMARY:Kouvot - Tampereen Pyrintö
DESCRIPTION:
URL:https://kouvot.fi/ottelu/kouvot-tampereen-pyrinto-5/
LOCATION:MLL Areena\, Huovihongantie 5\, Kouvola\, 45200
CATEGORIES:Edustusjoukkueen kotiottelut
END:VEVENT
BEGIN:VEVENT
DTSTART;TZID=Europe/Helsinki:20240106T190000
DTEND;TZID=Europe/Helsinki:20240106T210000
DTSTAMP:20260422T225303
CREATED:20230715T093918Z
LAST-MODIFIED:20230715T093918Z
UID:2720-1704567600-1704574800@kouvot.fi
SUMMARY:Salon Vilpas - Kouvot
DESCRIPTION:
URL:https://kouvot.fi/ottelu/salon-vilpas-kouvot-5/
LOCATION:Salohalli\, Pormestarinkatu 5\, Salo\, 24100
CATEGORIES:Edustusjoukkueen vierasottelut
END:VEVENT
BEGIN:VEVENT
DTSTART;TZID=Europe/Helsinki:20240112T183000
DTEND;TZID=Europe/Helsinki:20240112T203000
DTSTAMP:20260422T225303
CREATED:20230715T094010Z
LAST-MODIFIED:20230715T094010Z
UID:2722-1705084200-1705091400@kouvot.fi
SUMMARY:Kouvot - Kataja Basket
DESCRIPTION:
URL:https://kouvot.fi/ottelu/kouvot-kataja-basket-6/
LOCATION:MLL Areena\, Huovihongantie 5\, Kouvola\, 45200
CATEGORIES:Edustusjoukkueen kotiottelut
END:VEVENT
BEGIN:VEVENT
DTSTART;TZID=Europe/Helsinki:20240116T183000
DTEND;TZID=Europe/Helsinki:20240116T203000
DTSTAMP:20260422T225303
CREATED:20230715T094054Z
LAST-MODIFIED:20230715T094054Z
UID:2724-1705429800-1705437000@kouvot.fi
SUMMARY:Kouvot - Korihait
DESCRIPTION:
URL:https://kouvot.fi/ottelu/kouvot-korihait-3/
LOCATION:MLL Areena\, Huovihongantie 5\, Kouvola\, 45200
CATEGORIES:Edustusjoukkueen kotiottelut
END:VEVENT
BEGIN:VEVENT
DTSTART;TZID=Europe/Helsinki:20240126T183000
DTEND;TZID=Europe/Helsinki:20240126T203000
DTSTAMP:20260422T225303
CREATED:20230715T094142Z
LAST-MODIFIED:20230715T094142Z
UID:2726-1706293800-1706301000@kouvot.fi
SUMMARY:Helsinki Seagulls - Kouvot
DESCRIPTION:
URL:https://kouvot.fi/ottelu/helsinki-seagulls-kouvot-5/
LOCATION:Töölön Kisahalli\, Paavo Nurmen kuja 1\, Helsinki\, 00250
CATEGORIES:Edustusjoukkueen vierasottelut
END:VEVENT
END:VCALENDAR