BEGIN:VCALENDAR
VERSION:2.0
PRODID:-//Kouvot | Kouvot Basket Oy - ECPv6.15.20//NONSGML v1.0//EN
CALSCALE:GREGORIAN
METHOD:PUBLISH
X-WR-CALNAME:Kouvot | Kouvot Basket Oy
X-ORIGINAL-URL:https://kouvot.fi
X-WR-CALDESC:Tapahtumat Kouvot | Kouvot Basket Oy
REFRESH-INTERVAL;VALUE=DURATION:PT1H
X-Robots-Tag:noindex
X-PUBLISHED-TTL:PT1H
BEGIN:VTIMEZONE
TZID:Europe/Helsinki
BEGIN:DAYLIGHT
TZOFFSETFROM:+0200
TZOFFSETTO:+0300
TZNAME:EEST
DTSTART:20230326T010000
END:DAYLIGHT
BEGIN:STANDARD
TZOFFSETFROM:+0300
TZOFFSETTO:+0200
TZNAME:EET
DTSTART:20231029T010000
END:STANDARD
BEGIN:DAYLIGHT
TZOFFSETFROM:+0200
TZOFFSETTO:+0300
TZNAME:EEST
DTSTART:20240331T010000
END:DAYLIGHT
BEGIN:STANDARD
TZOFFSETFROM:+0300
TZOFFSETTO:+0200
TZNAME:EET
DTSTART:20241027T010000
END:STANDARD
BEGIN:DAYLIGHT
TZOFFSETFROM:+0200
TZOFFSETTO:+0300
TZNAME:EEST
DTSTART:20250330T010000
END:DAYLIGHT
BEGIN:STANDARD
TZOFFSETFROM:+0300
TZOFFSETTO:+0200
TZNAME:EET
DTSTART:20251026T010000
END:STANDARD
END:VTIMEZONE
BEGIN:VEVENT
DTSTART;TZID=Europe/Helsinki:20240203T170000
DTEND;TZID=Europe/Helsinki:20240203T190000
DTSTAMP:20260422T213605
CREATED:20230715T094227Z
LAST-MODIFIED:20230715T094227Z
UID:2728-1706979600-1706986800@kouvot.fi
SUMMARY:Kouvot - Bisons Loimaa
DESCRIPTION:
URL:https://kouvot.fi/ottelu/kouvot-bisons-loimaa-2/
LOCATION:MLL Areena\, Huovihongantie 5\, Kouvola\, 45200
CATEGORIES:Edustusjoukkueen kotiottelut
END:VEVENT
BEGIN:VEVENT
DTSTART;TZID=Europe/Helsinki:20240211T170000
DTEND;TZID=Europe/Helsinki:20240211T190000
DTSTAMP:20260422T213605
CREATED:20240205T191839Z
LAST-MODIFIED:20240205T191839Z
UID:3141-1707670800-1707678000@kouvot.fi
SUMMARY:Lahti Basketball - Kouvot
DESCRIPTION:
URL:https://kouvot.fi/ottelu/lahti-basketball-kouvot-4/
LOCATION:Lahti Energia Areena\, Salpausselänkatu 7\, Lahti\, 15110
CATEGORIES:Edustusjoukkueen vierasottelut
END:VEVENT
BEGIN:VEVENT
DTSTART;TZID=Europe/Helsinki:20240214T183000
DTEND;TZID=Europe/Helsinki:20240214T203000
DTSTAMP:20260422T213605
CREATED:20240205T191036Z
LAST-MODIFIED:20240205T194554Z
UID:3131-1707935400-1707942600@kouvot.fi
SUMMARY:Kouvot - KTP-Basket
DESCRIPTION:
URL:https://kouvot.fi/ottelu/kouvot-ktp-basket-6/
LOCATION:MLL Areena\, Huovihongantie 5\, Kouvola\, 45200
CATEGORIES:Edustusjoukkueen kotiottelut
ORGANIZER;CN="Kouvot Basket Oy":MAILTO:toimisto@kouvotbasket.fi
END:VEVENT
BEGIN:VEVENT
DTSTART;TZID=Europe/Helsinki:20240217T160000
DTEND;TZID=Europe/Helsinki:20240217T180000
DTSTAMP:20260422T213605
CREATED:20240205T192024Z
LAST-MODIFIED:20240205T192024Z
UID:3143-1708185600-1708192800@kouvot.fi
SUMMARY:Bisons Loimaa - Kouvot
DESCRIPTION:
URL:https://kouvot.fi/ottelu/bisons-loimaa-kouvot-3/
LOCATION:Loimaan liikuntahalli\, Puistokatu 16\, Loimaa\, 32200
CATEGORIES:Edustusjoukkueen vierasottelut
END:VEVENT
END:VCALENDAR