BEGIN:VCALENDAR
VERSION:2.0
PRODID:-//Kouvot | Kouvot Basket Oy - ECPv6.15.20//NONSGML v1.0//EN
CALSCALE:GREGORIAN
METHOD:PUBLISH
X-WR-CALNAME:Kouvot | Kouvot Basket Oy
X-ORIGINAL-URL:https://kouvot.fi
X-WR-CALDESC:Tapahtumat Kouvot | Kouvot Basket Oy
REFRESH-INTERVAL;VALUE=DURATION:PT1H
X-Robots-Tag:noindex
X-PUBLISHED-TTL:PT1H
BEGIN:VTIMEZONE
TZID:Europe/Helsinki
BEGIN:DAYLIGHT
TZOFFSETFROM:+0200
TZOFFSETTO:+0300
TZNAME:EEST
DTSTART:20230326T010000
END:DAYLIGHT
BEGIN:STANDARD
TZOFFSETFROM:+0300
TZOFFSETTO:+0200
TZNAME:EET
DTSTART:20231029T010000
END:STANDARD
BEGIN:DAYLIGHT
TZOFFSETFROM:+0200
TZOFFSETTO:+0300
TZNAME:EEST
DTSTART:20240331T010000
END:DAYLIGHT
BEGIN:STANDARD
TZOFFSETFROM:+0300
TZOFFSETTO:+0200
TZNAME:EET
DTSTART:20241027T010000
END:STANDARD
BEGIN:DAYLIGHT
TZOFFSETFROM:+0200
TZOFFSETTO:+0300
TZNAME:EEST
DTSTART:20250330T010000
END:DAYLIGHT
BEGIN:STANDARD
TZOFFSETFROM:+0300
TZOFFSETTO:+0200
TZNAME:EET
DTSTART:20251026T010000
END:STANDARD
END:VTIMEZONE
BEGIN:VEVENT
DTSTART;TZID=Europe/Helsinki:20240303T170000
DTEND;TZID=Europe/Helsinki:20240303T190000
DTSTAMP:20260422T161048
CREATED:20240205T191157Z
LAST-MODIFIED:20240205T191157Z
UID:3133-1709485200-1709492400@kouvot.fi
SUMMARY:Kouvot - Tampereen Pyrintö
DESCRIPTION:
URL:https://kouvot.fi/ottelu/kouvot-tampereen-pyrinto-6/
LOCATION:MLL Areena\, Huovihongantie 5\, Kouvola\, 45200
CATEGORIES:Edustusjoukkueen kotiottelut
ORGANIZER;CN="Kouvot Basket Oy":MAILTO:toimisto@kouvotbasket.fi
END:VEVENT
BEGIN:VEVENT
DTSTART;TZID=Europe/Helsinki:20240306T183000
DTEND;TZID=Europe/Helsinki:20240306T203000
DTSTAMP:20260422T161048
CREATED:20240205T192210Z
LAST-MODIFIED:20240205T192210Z
UID:3145-1709749800-1709757000@kouvot.fi
SUMMARY:Kobrat - Kouvot
DESCRIPTION:
URL:https://kouvot.fi/ottelu/kobrat-kouvot-4/
LOCATION:Lapuan urheilutalo\, Urheilukatu 6\, Lapua\, 62100\, Suomi
CATEGORIES:Edustusjoukkueen vierasottelut
END:VEVENT
BEGIN:VEVENT
DTSTART;TZID=Europe/Helsinki:20240310T170000
DTEND;TZID=Europe/Helsinki:20240310T190000
DTSTAMP:20260422T161048
CREATED:20240205T191312Z
LAST-MODIFIED:20240205T191312Z
UID:3135-1710090000-1710097200@kouvot.fi
SUMMARY:Kouvot - Lahti Basketball
DESCRIPTION:
URL:https://kouvot.fi/ottelu/kouvot-lahti-basketball-4/
LOCATION:MLL Areena\, Huovihongantie 5\, Kouvola\, 45200
CATEGORIES:Edustusjoukkueen kotiottelut
ORGANIZER;CN="Kouvot Basket Oy":MAILTO:toimisto@kouvotbasket.fi
END:VEVENT
BEGIN:VEVENT
DTSTART;TZID=Europe/Helsinki:20240315T183000
DTEND;TZID=Europe/Helsinki:20240315T203000
DTSTAMP:20260422T161048
CREATED:20240205T192356Z
LAST-MODIFIED:20240205T192356Z
UID:3147-1710527400-1710534600@kouvot.fi
SUMMARY:KTP-Basket - Kouvot
DESCRIPTION:
URL:https://kouvot.fi/ottelu/ktp-basket-kouvot-6/
LOCATION:Steveco areena\, Ututie 4\, Kotka\, Kymenlaakso\, 48350\, Suomi
CATEGORIES:Edustusjoukkueen vierasottelut
END:VEVENT
BEGIN:VEVENT
DTSTART;TZID=Europe/Helsinki:20240322T183000
DTEND;TZID=Europe/Helsinki:20240322T203000
DTSTAMP:20260422T161048
CREATED:20240205T191422Z
LAST-MODIFIED:20240205T191422Z
UID:3137-1711132200-1711139400@kouvot.fi
SUMMARY:Kouvot - Bisons Loimaa
DESCRIPTION:
URL:https://kouvot.fi/ottelu/kouvot-bisons-loimaa-3/
LOCATION:MLL Areena\, Huovihongantie 5\, Kouvola\, 45200
CATEGORIES:Edustusjoukkueen kotiottelut
ORGANIZER;CN="Kouvot Basket Oy":MAILTO:toimisto@kouvotbasket.fi
END:VEVENT
BEGIN:VEVENT
DTSTART;TZID=Europe/Helsinki:20240327T183000
DTEND;TZID=Europe/Helsinki:20240327T203000
DTSTAMP:20260422T161048
CREATED:20240205T192536Z
LAST-MODIFIED:20240205T192536Z
UID:3149-1711564200-1711571400@kouvot.fi
SUMMARY:Tampereen Pyrintö - Kouvot
DESCRIPTION:
URL:https://kouvot.fi/ottelu/tampereen-pyrinto-kouvot-5/
LOCATION:Pyynikin palloiluhalli
CATEGORIES:Edustusjoukkueen vierasottelut
END:VEVENT
BEGIN:VEVENT
DTSTART;TZID=Europe/Helsinki:20240330T170000
DTEND;TZID=Europe/Helsinki:20240330T190000
DTSTAMP:20260422T161048
CREATED:20240205T191604Z
LAST-MODIFIED:20240205T191604Z
UID:3139-1711818000-1711825200@kouvot.fi
SUMMARY:Kouvot - Kobrat
DESCRIPTION:
URL:https://kouvot.fi/ottelu/kouvot-kobrat-5/
LOCATION:MLL Areena\, Huovihongantie 5\, Kouvola\, 45200
CATEGORIES:Edustusjoukkueen kotiottelut
ORGANIZER;CN="Kouvot Basket Oy":MAILTO:toimisto@kouvotbasket.fi
END:VEVENT
END:VCALENDAR