BEGIN:VCALENDAR
VERSION:2.0
PRODID:-//Kouvot | Kouvot Basket Oy - ECPv6.15.20//NONSGML v1.0//EN
CALSCALE:GREGORIAN
METHOD:PUBLISH
X-ORIGINAL-URL:https://kouvot.fi
X-WR-CALDESC:Tapahtumat Kouvot | Kouvot Basket Oy
REFRESH-INTERVAL;VALUE=DURATION:PT1H
X-Robots-Tag:noindex
X-PUBLISHED-TTL:PT1H
BEGIN:VTIMEZONE
TZID:Europe/Helsinki
BEGIN:DAYLIGHT
TZOFFSETFROM:+0200
TZOFFSETTO:+0300
TZNAME:EEST
DTSTART:20230326T010000
END:DAYLIGHT
BEGIN:STANDARD
TZOFFSETFROM:+0300
TZOFFSETTO:+0200
TZNAME:EET
DTSTART:20231029T010000
END:STANDARD
BEGIN:DAYLIGHT
TZOFFSETFROM:+0200
TZOFFSETTO:+0300
TZNAME:EEST
DTSTART:20240331T010000
END:DAYLIGHT
BEGIN:STANDARD
TZOFFSETFROM:+0300
TZOFFSETTO:+0200
TZNAME:EET
DTSTART:20241027T010000
END:STANDARD
BEGIN:DAYLIGHT
TZOFFSETFROM:+0200
TZOFFSETTO:+0300
TZNAME:EEST
DTSTART:20250330T010000
END:DAYLIGHT
BEGIN:STANDARD
TZOFFSETFROM:+0300
TZOFFSETTO:+0200
TZNAME:EET
DTSTART:20251026T010000
END:STANDARD
END:VTIMEZONE
BEGIN:VEVENT
DTSTART;TZID=Europe/Helsinki:20240406T170000
DTEND;TZID=Europe/Helsinki:20240406T190000
DTSTAMP:20260422T145515
CREATED:20240402T172259Z
LAST-MODIFIED:20240403T144203Z
UID:3232-1712422800-1712430000@kouvot.fi
SUMMARY:BC Nokia - Kouvot
DESCRIPTION:
URL:https://kouvot.fi/ottelu/bc-nokia-kouvot-4/
LOCATION:Harjuniityn liikuntahalli\, Lautamiehenkatu 1\, Nokia\, 37140\, Finland
CATEGORIES:Edustusjoukkueen vierasottelut
END:VEVENT
BEGIN:VEVENT
DTSTART;TZID=Europe/Helsinki:20240409T183000
DTEND;TZID=Europe/Helsinki:20240409T203000
DTSTAMP:20260422T145515
CREATED:20240402T172412Z
LAST-MODIFIED:20240402T172412Z
UID:3234-1712687400-1712694600@kouvot.fi
SUMMARY:Kouvot - BC Nokia
DESCRIPTION:
URL:https://kouvot.fi/ottelu/kouvot-bc-nokia-4/
LOCATION:MLL Areena\, Huovihongantie 5\, Kouvola\, 45200
CATEGORIES:Edustusjoukkueen kotiottelut
ORGANIZER;CN="Kouvot Basket Oy":MAILTO:toimisto@kouvotbasket.fi
END:VEVENT
BEGIN:VEVENT
DTSTART;TZID=Europe/Helsinki:20240412T183000
DTEND;TZID=Europe/Helsinki:20240412T203000
DTSTAMP:20260422T145515
CREATED:20240402T172520Z
LAST-MODIFIED:20240403T144231Z
UID:3236-1712946600-1712953800@kouvot.fi
SUMMARY:BC Nokia - Kouvot
DESCRIPTION:
URL:https://kouvot.fi/ottelu/bc-nokia-kouvot-5/
LOCATION:Harjuniityn liikuntahalli\, Lautamiehenkatu 1\, Nokia\, 37140\, Finland
CATEGORIES:Edustusjoukkueen vierasottelut
END:VEVENT
BEGIN:VEVENT
DTSTART;TZID=Europe/Helsinki:20240414T170000
DTEND;TZID=Europe/Helsinki:20240414T190000
DTSTAMP:20260422T145515
CREATED:20240402T172647Z
LAST-MODIFIED:20240402T172647Z
UID:3238-1713114000-1713121200@kouvot.fi
SUMMARY:Kouvot - BC Nokia (tarvittaessa)
DESCRIPTION:TARVITTAESSA
URL:https://kouvot.fi/ottelu/kouvot-bc-nokia-tarvittaessa/
LOCATION:MLL Areena\, Huovihongantie 5\, Kouvola\, 45200
CATEGORIES:Edustusjoukkueen kotiottelut
ORGANIZER;CN="Kouvot Basket Oy":MAILTO:toimisto@kouvotbasket.fi
END:VEVENT
BEGIN:VEVENT
DTSTART;TZID=Europe/Helsinki:20240416T183000
DTEND;TZID=Europe/Helsinki:20240416T203000
DTSTAMP:20260422T145515
CREATED:20240402T172811Z
LAST-MODIFIED:20240403T144123Z
UID:3240-1713292200-1713299400@kouvot.fi
SUMMARY:BC Nokia - Kouvot (tarvittaessa)
DESCRIPTION:
URL:https://kouvot.fi/ottelu/bc-nokia-kouvot-tarvittaessa/
LOCATION:Harjuniityn liikuntahalli\, Lautamiehenkatu 1\, Nokia\, 37140\, Finland
CATEGORIES:Edustusjoukkueen vierasottelut
END:VEVENT
END:VCALENDAR