BEGIN:VCALENDAR
VERSION:2.0
PRODID:-//Kouvot | Kouvot Basket Oy - ECPv6.15.20//NONSGML v1.0//EN
CALSCALE:GREGORIAN
METHOD:PUBLISH
X-WR-CALNAME:Kouvot | Kouvot Basket Oy
X-ORIGINAL-URL:https://kouvot.fi
X-WR-CALDESC:Tapahtumat Kouvot | Kouvot Basket Oy
REFRESH-INTERVAL;VALUE=DURATION:PT1H
X-Robots-Tag:noindex
X-PUBLISHED-TTL:PT1H
BEGIN:VTIMEZONE
TZID:Europe/Helsinki
BEGIN:DAYLIGHT
TZOFFSETFROM:+0200
TZOFFSETTO:+0300
TZNAME:EEST
DTSTART:20230326T010000
END:DAYLIGHT
BEGIN:STANDARD
TZOFFSETFROM:+0300
TZOFFSETTO:+0200
TZNAME:EET
DTSTART:20231029T010000
END:STANDARD
BEGIN:DAYLIGHT
TZOFFSETFROM:+0200
TZOFFSETTO:+0300
TZNAME:EEST
DTSTART:20240331T010000
END:DAYLIGHT
BEGIN:STANDARD
TZOFFSETFROM:+0300
TZOFFSETTO:+0200
TZNAME:EET
DTSTART:20241027T010000
END:STANDARD
BEGIN:DAYLIGHT
TZOFFSETFROM:+0200
TZOFFSETTO:+0300
TZNAME:EEST
DTSTART:20250330T010000
END:DAYLIGHT
BEGIN:STANDARD
TZOFFSETFROM:+0300
TZOFFSETTO:+0200
TZNAME:EET
DTSTART:20251026T010000
END:STANDARD
END:VTIMEZONE
BEGIN:VEVENT
DTSTART;TZID=Europe/Helsinki:20241101T183000
DTEND;TZID=Europe/Helsinki:20241101T203000
DTSTAMP:20260422T053733
CREATED:20240708T113658Z
LAST-MODIFIED:20240708T113658Z
UID:3376-1730485800-1730493000@kouvot.fi
SUMMARY:Kouvot - Kataja Basket
DESCRIPTION:
URL:https://kouvot.fi/ottelu/kouvot-kataja-basket-7/
LOCATION:MLL Areena\, Huovihongantie 5\, Kouvola\, 45200
CATEGORIES:Edustusjoukkueen kotiottelut
END:VEVENT
BEGIN:VEVENT
DTSTART;TZID=Europe/Helsinki:20241106T183000
DTEND;TZID=Europe/Helsinki:20241106T203000
DTSTAMP:20260422T053733
CREATED:20240708T113804Z
LAST-MODIFIED:20240708T113804Z
UID:3378-1730917800-1730925000@kouvot.fi
SUMMARY:Korihait - Kouvot
DESCRIPTION:
URL:https://kouvot.fi/ottelu/korihait-kouvot-4/
LOCATION:Uusikaupunki Areena\, Pohjoistullitie 3\, Uusikaupunki\, 23500
CATEGORIES:Edustusjoukkueen vierasottelut
END:VEVENT
BEGIN:VEVENT
DTSTART;TZID=Europe/Helsinki:20241108T183000
DTEND;TZID=Europe/Helsinki:20241108T203000
DTSTAMP:20260422T053733
CREATED:20240708T114127Z
LAST-MODIFIED:20240708T114127Z
UID:3380-1731090600-1731097800@kouvot.fi
SUMMARY:Kouvot - Tampereen Pyrintö
DESCRIPTION:
URL:https://kouvot.fi/ottelu/kouvot-tampereen-pyrinto-7/
LOCATION:MLL Areena\, Huovihongantie 5\, Kouvola\, 45200
CATEGORIES:Edustusjoukkueen kotiottelut
END:VEVENT
BEGIN:VEVENT
DTSTART;TZID=Europe/Helsinki:20241115T183000
DTEND;TZID=Europe/Helsinki:20241115T203000
DTSTAMP:20260422T053733
CREATED:20240708T114242Z
LAST-MODIFIED:20240708T114242Z
UID:3382-1731695400-1731702600@kouvot.fi
SUMMARY:BC Nokia - Kouvot
DESCRIPTION:
URL:https://kouvot.fi/ottelu/bc-nokia-kouvot-6/
LOCATION:Nokian Palloiluareena
CATEGORIES:Edustusjoukkueen vierasottelut
END:VEVENT
BEGIN:VEVENT
DTSTART;TZID=Europe/Helsinki:20241129T183000
DTEND;TZID=Europe/Helsinki:20241129T203000
DTSTAMP:20260422T053733
CREATED:20240708T114341Z
LAST-MODIFIED:20240708T114341Z
UID:3385-1732905000-1732912200@kouvot.fi
SUMMARY:Kouvot - Helsinki Seagulls
DESCRIPTION:
URL:https://kouvot.fi/ottelu/kouvot-helsinki-seagulls-6/
LOCATION:MLL Areena\, Huovihongantie 5\, Kouvola\, 45200
CATEGORIES:Edustusjoukkueen kotiottelut
END:VEVENT
END:VCALENDAR