BEGIN:VCALENDAR
VERSION:2.0
PRODID:-//Kouvot | Kouvot Basket Oy - ECPv6.15.20//NONSGML v1.0//EN
CALSCALE:GREGORIAN
METHOD:PUBLISH
X-WR-CALNAME:Kouvot | Kouvot Basket Oy
X-ORIGINAL-URL:https://kouvot.fi
X-WR-CALDESC:Tapahtumat Kouvot | Kouvot Basket Oy
REFRESH-INTERVAL;VALUE=DURATION:PT1H
X-Robots-Tag:noindex
X-PUBLISHED-TTL:PT1H
BEGIN:VTIMEZONE
TZID:Europe/Helsinki
BEGIN:DAYLIGHT
TZOFFSETFROM:+0200
TZOFFSETTO:+0300
TZNAME:EEST
DTSTART:20220327T010000
END:DAYLIGHT
BEGIN:STANDARD
TZOFFSETFROM:+0300
TZOFFSETTO:+0200
TZNAME:EET
DTSTART:20221030T010000
END:STANDARD
BEGIN:DAYLIGHT
TZOFFSETFROM:+0200
TZOFFSETTO:+0300
TZNAME:EEST
DTSTART:20230326T010000
END:DAYLIGHT
BEGIN:STANDARD
TZOFFSETFROM:+0300
TZOFFSETTO:+0200
TZNAME:EET
DTSTART:20231029T010000
END:STANDARD
BEGIN:DAYLIGHT
TZOFFSETFROM:+0200
TZOFFSETTO:+0300
TZNAME:EEST
DTSTART:20240331T010000
END:DAYLIGHT
BEGIN:STANDARD
TZOFFSETFROM:+0300
TZOFFSETTO:+0200
TZNAME:EET
DTSTART:20241027T010000
END:STANDARD
BEGIN:DAYLIGHT
TZOFFSETFROM:+0200
TZOFFSETTO:+0300
TZNAME:EEST
DTSTART:20250330T010000
END:DAYLIGHT
BEGIN:STANDARD
TZOFFSETFROM:+0300
TZOFFSETTO:+0200
TZNAME:EET
DTSTART:20251026T010000
END:STANDARD
END:VTIMEZONE
BEGIN:VEVENT
DTSTART;TZID=Europe/Helsinki:20230304T170000
DTEND;TZID=Europe/Helsinki:20230304T200000
DTSTAMP:20260423T133317
CREATED:20230124T141836Z
LAST-MODIFIED:20230124T141836Z
UID:2516-1677949200-1677960000@kouvot.fi
SUMMARY:Kouvot - Helsinki Seagulls
DESCRIPTION:
URL:https://kouvot.fi/ottelu/kouvot-helsinki-seagulls-4/
LOCATION:MLL Areena\, Huovihongantie 5\, Kouvola\, 45200
CATEGORIES:Edustusjoukkueen kotiottelut
ORGANIZER;CN="Kouvot Basket Oy":MAILTO:toimisto@kouvotbasket.fi
END:VEVENT
BEGIN:VEVENT
DTSTART;TZID=Europe/Helsinki:20230310T183000
DTEND;TZID=Europe/Helsinki:20230310T203000
DTSTAMP:20260423T133317
CREATED:20230124T142808Z
LAST-MODIFIED:20230124T142808Z
UID:2526-1678473000-1678480200@kouvot.fi
SUMMARY:Vilpas Vikings - Kouvot
DESCRIPTION:
URL:https://kouvot.fi/ottelu/vilpas-vikings-kouvot-2/
LOCATION:Salohalli\, Pormestarinkatu 5\, Salo\, 24100
CATEGORIES:Edustusjoukkueen vierasottelut
END:VEVENT
BEGIN:VEVENT
DTSTART;TZID=Europe/Helsinki:20230317T183000
DTEND;TZID=Europe/Helsinki:20230317T203000
DTSTAMP:20260423T133317
CREATED:20230124T142007Z
LAST-MODIFIED:20230124T142007Z
UID:2518-1679077800-1679085000@kouvot.fi
SUMMARY:Kouvot - Kataja Basket
DESCRIPTION:
URL:https://kouvot.fi/ottelu/kouvot-kataja-basket-5/
LOCATION:MLL Areena\, Huovihongantie 5\, Kouvola\, 45200
CATEGORIES:Edustusjoukkueen kotiottelut
ORGANIZER;CN="Kouvot Basket Oy":MAILTO:toimisto@kouvotbasket.fi
END:VEVENT
BEGIN:VEVENT
DTSTART;TZID=Europe/Helsinki:20230322T183000
DTEND;TZID=Europe/Helsinki:20230322T203000
DTSTAMP:20260423T133317
CREATED:20230124T142931Z
LAST-MODIFIED:20230124T142931Z
UID:2528-1679509800-1679517000@kouvot.fi
SUMMARY:KTP-Basket - Kouvot
DESCRIPTION:
URL:https://kouvot.fi/ottelu/ktp-basket-kouvot-4/
LOCATION:Steveco areena\, Ututie 4\, Kotka\, Kymenlaakso\, 48350\, Suomi
CATEGORIES:Edustusjoukkueen vierasottelut
END:VEVENT
BEGIN:VEVENT
DTSTART;TZID=Europe/Helsinki:20230325T170000
DTEND;TZID=Europe/Helsinki:20230325T170000
DTSTAMP:20260423T133317
CREATED:20230323T111537Z
LAST-MODIFIED:20230323T111537Z
UID:2591-1679763600-1679763600@kouvot.fi
SUMMARY:Salon Vilpas - Kouvot
DESCRIPTION:
URL:https://kouvot.fi/ottelu/salon-vilpas-kouvot-3/
LOCATION:Salohalli\, Pormestarinkatu 5\, Salo\, 24100
CATEGORIES:Edustusjoukkueen vierasottelut
END:VEVENT
BEGIN:VEVENT
DTSTART;TZID=Europe/Helsinki:20230401T170000
DTEND;TZID=Europe/Helsinki:20230401T190000
DTSTAMP:20260423T133317
CREATED:20230323T111718Z
LAST-MODIFIED:20230323T111720Z
UID:2593-1680368400-1680375600@kouvot.fi
SUMMARY:Kouvot - Salon Vilpas
DESCRIPTION:
URL:https://kouvot.fi/ottelu/kouvot-salon-vilpas-3/
LOCATION:MLL Areena\, Huovihongantie 5\, Kouvola\, 45200
CATEGORIES:Edustusjoukkueen kotiottelut
END:VEVENT
BEGIN:VEVENT
DTSTART;TZID=Europe/Helsinki:20230407T170000
DTEND;TZID=Europe/Helsinki:20230407T190000
DTSTAMP:20260423T133317
CREATED:20230323T111852Z
LAST-MODIFIED:20230323T111852Z
UID:2595-1680886800-1680894000@kouvot.fi
SUMMARY:Salon Vilpas - Kouvot
DESCRIPTION:
URL:https://kouvot.fi/ottelu/salon-vilpas-kouvot-4/
LOCATION:Salohalli\, Pormestarinkatu 5\, Salo\, 24100
CATEGORIES:Edustusjoukkueen vierasottelut
END:VEVENT
BEGIN:VEVENT
DTSTART;TZID=Europe/Helsinki:20230409T170000
DTEND;TZID=Europe/Helsinki:20230409T190000
DTSTAMP:20260423T133317
CREATED:20230323T112218Z
LAST-MODIFIED:20230323T112218Z
UID:2597-1681059600-1681066800@kouvot.fi
SUMMARY:Kouvot - Salon Vilpas (tarvittaessa)
DESCRIPTION:
URL:https://kouvot.fi/ottelu/kouvot-salon-vilpas-tarvittaessa/
LOCATION:MLL Areena\, Huovihongantie 5\, Kouvola\, 45200
CATEGORIES:Edustusjoukkueen kotiottelut
END:VEVENT
BEGIN:VEVENT
DTSTART;TZID=Europe/Helsinki:20230411T183000
DTEND;TZID=Europe/Helsinki:20230411T203000
DTSTAMP:20260423T133317
CREATED:20230323T112440Z
LAST-MODIFIED:20230323T112440Z
UID:2599-1681237800-1681245000@kouvot.fi
SUMMARY:Salon Vilpas - Kouvot (tarvittaessa)
DESCRIPTION:
URL:https://kouvot.fi/ottelu/salon-vilpas-kouvot-tarvittaessa/
LOCATION:Salohalli\, Pormestarinkatu 5\, Salo\, 24100
CATEGORIES:Edustusjoukkueen vierasottelut
END:VEVENT
BEGIN:VEVENT
DTSTART;TZID=Europe/Helsinki:20230930T160000
DTEND;TZID=Europe/Helsinki:20230930T180000
DTSTAMP:20260423T133317
CREATED:20230715T091851Z
LAST-MODIFIED:20230715T091913Z
UID:2680-1696089600-1696096800@kouvot.fi
SUMMARY:Kouvot - Lahti Basketball
DESCRIPTION:
URL:https://kouvot.fi/ottelu/kouvot-lahti-basketball-3/
LOCATION:MLL Areena\, Huovihongantie 5\, Kouvola\, 45200
CATEGORIES:Edustusjoukkueen kotiottelut
END:VEVENT
BEGIN:VEVENT
DTSTART;TZID=Europe/Helsinki:20231006T183000
DTEND;TZID=Europe/Helsinki:20231006T203000
DTSTAMP:20260423T133317
CREATED:20230715T092207Z
LAST-MODIFIED:20230715T092207Z
UID:2682-1696617000-1696624200@kouvot.fi
SUMMARY:Kobrat - Kouvot
DESCRIPTION:
URL:https://kouvot.fi/ottelu/kobrat-kouvot-3/
LOCATION:Lapuan urheilutalo\, Urheilukatu 6\, Lapua\, 62100\, Suomi
CATEGORIES:Edustusjoukkueen vierasottelut
END:VEVENT
BEGIN:VEVENT
DTSTART;TZID=Europe/Helsinki:20231010T183000
DTEND;TZID=Europe/Helsinki:20231010T203000
DTSTAMP:20260423T133317
CREATED:20230715T092301Z
LAST-MODIFIED:20230715T092301Z
UID:2684-1696962600-1696969800@kouvot.fi
SUMMARY:Kouvot - KTP-Basket
DESCRIPTION:
URL:https://kouvot.fi/ottelu/kouvot-ktp-basket-5/
LOCATION:MLL Areena\, Huovihongantie 5\, Kouvola\, 45200
CATEGORIES:Edustusjoukkueen kotiottelut
END:VEVENT
BEGIN:VEVENT
DTSTART;TZID=Europe/Helsinki:20231015T150000
DTEND;TZID=Europe/Helsinki:20231015T163000
DTSTAMP:20260423T133317
CREATED:20230715T092404Z
LAST-MODIFIED:20231009T164212Z
UID:2686-1697382000-1697387400@kouvot.fi
SUMMARY:Tampereen Pyrintö - Kouvot
DESCRIPTION:
URL:https://kouvot.fi/ottelu/tampereen-pyrinto-kouvot-4/
LOCATION:Pyynikin palloiluhalli
CATEGORIES:Edustusjoukkueen vierasottelut
END:VEVENT
BEGIN:VEVENT
DTSTART;TZID=Europe/Helsinki:20231021T170000
DTEND;TZID=Europe/Helsinki:20231021T190000
DTSTAMP:20260423T133317
CREATED:20230715T092457Z
LAST-MODIFIED:20230715T092457Z
UID:2688-1697907600-1697914800@kouvot.fi
SUMMARY:Kouvot - Kauhajoki
DESCRIPTION:
URL:https://kouvot.fi/ottelu/kouvot-kauhajoki-3/
LOCATION:MLL Areena\, Huovihongantie 5\, Kouvola\, 45200
CATEGORIES:Edustusjoukkueen kotiottelut
END:VEVENT
BEGIN:VEVENT
DTSTART;TZID=Europe/Helsinki:20231025T183000
DTEND;TZID=Europe/Helsinki:20231025T203000
DTSTAMP:20260423T133317
CREATED:20230715T092654Z
LAST-MODIFIED:20230715T092654Z
UID:2690-1698258600-1698265800@kouvot.fi
SUMMARY:BC Nokia - Kouvot
DESCRIPTION:
URL:https://kouvot.fi/ottelu/bc-nokia-kouvot-3/
LOCATION:Harjuniityn liikuntahalli\, Lautamiehenkatu 1\, Nokia\, 37140\, Finland
CATEGORIES:Edustusjoukkueen vierasottelut
END:VEVENT
BEGIN:VEVENT
DTSTART;TZID=Europe/Helsinki:20231103T183000
DTEND;TZID=Europe/Helsinki:20231103T203000
DTSTAMP:20260423T133317
CREATED:20230715T092751Z
LAST-MODIFIED:20230715T092751Z
UID:2693-1699036200-1699043400@kouvot.fi
SUMMARY:Kouvot - Salon Vilpas
DESCRIPTION:
URL:https://kouvot.fi/ottelu/kouvot-salon-vilpas-4/
LOCATION:MLL Areena\, Huovihongantie 5\, Kouvola\, 45200
CATEGORIES:Edustusjoukkueen kotiottelut
END:VEVENT
BEGIN:VEVENT
DTSTART;TZID=Europe/Helsinki:20231111T160000
DTEND;TZID=Europe/Helsinki:20231111T180000
DTSTAMP:20260423T133317
CREATED:20230715T092838Z
LAST-MODIFIED:20230715T092838Z
UID:2695-1699718400-1699725600@kouvot.fi
SUMMARY:Kataja Basket - Kouvot
DESCRIPTION:
URL:https://kouvot.fi/ottelu/kataja-basket-kouvot-4/
LOCATION:Motonet Areena\, Kisapolku 1\, Joensuu\, Pohjois-Karjala\, 80110\, Finland
CATEGORIES:Edustusjoukkueen vierasottelut
END:VEVENT
BEGIN:VEVENT
DTSTART;TZID=Europe/Helsinki:20231118T180000
DTEND;TZID=Europe/Helsinki:20231118T200000
DTSTAMP:20260423T133317
CREATED:20230715T092940Z
LAST-MODIFIED:20230715T092940Z
UID:2697-1700330400-1700337600@kouvot.fi
SUMMARY:Korihait - Kouvot
DESCRIPTION:
URL:https://kouvot.fi/ottelu/korihait-kouvot-3/
LOCATION:Uusikaupunki Areena\, Pohjoistullitie 3\, Uusikaupunki\, 23500
CATEGORIES:Edustusjoukkueen vierasottelut
END:VEVENT
BEGIN:VEVENT
DTSTART;TZID=Europe/Helsinki:20231124T183000
DTEND;TZID=Europe/Helsinki:20231124T203000
DTSTAMP:20260423T133317
CREATED:20230715T093025Z
LAST-MODIFIED:20230715T093049Z
UID:2699-1700850600-1700857800@kouvot.fi
SUMMARY:Kouvot - Helsinki Seagulls
DESCRIPTION:
URL:https://kouvot.fi/ottelu/kouvot-helsinki-seagulls-5/
LOCATION:MLL Areena\, Huovihongantie 5\, Kouvola\, 45200
CATEGORIES:Edustusjoukkueen kotiottelut
END:VEVENT
BEGIN:VEVENT
DTSTART;TZID=Europe/Helsinki:20231129T183000
DTEND;TZID=Europe/Helsinki:20231129T203000
DTSTAMP:20260423T133317
CREATED:20230715T093141Z
LAST-MODIFIED:20230715T093141Z
UID:2702-1701282600-1701289800@kouvot.fi
SUMMARY:Bisons Loimaa - Kouvot
DESCRIPTION:
URL:https://kouvot.fi/ottelu/bisons-loimaa-kouvot-2/
LOCATION:Loimaan liikuntahalli\, Puistokatu 16\, Loimaa\, 32200
CATEGORIES:Edustusjoukkueen vierasottelut
END:VEVENT
BEGIN:VEVENT
DTSTART;TZID=Europe/Helsinki:20231201T183000
DTEND;TZID=Europe/Helsinki:20231201T203000
DTSTAMP:20260423T133317
CREATED:20230715T093330Z
LAST-MODIFIED:20230715T093330Z
UID:2704-1701455400-1701462600@kouvot.fi
SUMMARY:Lahti Basketball - Kouvot
DESCRIPTION:
URL:https://kouvot.fi/ottelu/lahti-basketball-kouvot-3/
LOCATION:Lahti Energia Areena\, Salpausselänkatu 7\, Lahti\, 15110
CATEGORIES:Edustusjoukkueen vierasottelut
END:VEVENT
BEGIN:VEVENT
DTSTART;TZID=Europe/Helsinki:20231209T170000
DTEND;TZID=Europe/Helsinki:20231209T190000
DTSTAMP:20260423T133317
CREATED:20230715T093441Z
LAST-MODIFIED:20230715T093441Z
UID:2706-1702141200-1702148400@kouvot.fi
SUMMARY:Kouvot - Kobrat
DESCRIPTION:
URL:https://kouvot.fi/ottelu/kouvot-kobrat-4/
LOCATION:MLL Areena\, Huovihongantie 5\, Kouvola\, 45200
CATEGORIES:Edustusjoukkueen kotiottelut
END:VEVENT
BEGIN:VEVENT
DTSTART;TZID=Europe/Helsinki:20231212T183000
DTEND;TZID=Europe/Helsinki:20231212T203000
DTSTAMP:20260423T133317
CREATED:20230715T093530Z
LAST-MODIFIED:20230715T093530Z
UID:2708-1702405800-1702413000@kouvot.fi
SUMMARY:KTP-Basket - Kouvot
DESCRIPTION:
URL:https://kouvot.fi/ottelu/ktp-basket-kouvot-5/
LOCATION:Steveco areena\, Ututie 4\, Kotka\, Kymenlaakso\, 48350\, Suomi
CATEGORIES:Edustusjoukkueen vierasottelut
END:VEVENT
BEGIN:VEVENT
DTSTART;TZID=Europe/Helsinki:20231228T183000
DTEND;TZID=Europe/Helsinki:20231228T203000
DTSTAMP:20260423T133317
CREATED:20230715T093619Z
LAST-MODIFIED:20230715T093619Z
UID:2711-1703788200-1703795400@kouvot.fi
SUMMARY:Kauhajoki - Kouvot
DESCRIPTION:
URL:https://kouvot.fi/ottelu/kauhajoki-kouvot-4/
LOCATION:IKH Areena\, Kenttätie\, Kauhajoki\, Etelä-Pohjanmaa\, 61800\, Finland
CATEGORIES:Edustusjoukkueen vierasottelut
END:VEVENT
BEGIN:VEVENT
DTSTART;TZID=Europe/Helsinki:20231231T150000
DTEND;TZID=Europe/Helsinki:20231231T170000
DTSTAMP:20260423T133317
CREATED:20230715T093706Z
LAST-MODIFIED:20230715T093706Z
UID:2713-1704034800-1704042000@kouvot.fi
SUMMARY:Kouvot - BC Nokia
DESCRIPTION:
URL:https://kouvot.fi/ottelu/kouvot-bc-nokia-3/
LOCATION:MLL Areena\, Huovihongantie 5\, Kouvola\, 45200
CATEGORIES:Edustusjoukkueen kotiottelut
END:VEVENT
BEGIN:VEVENT
DTSTART;TZID=Europe/Helsinki:20240102T183000
DTEND;TZID=Europe/Helsinki:20240102T203000
DTSTAMP:20260423T133317
CREATED:20230715T093815Z
LAST-MODIFIED:20230715T093815Z
UID:2717-1704220200-1704227400@kouvot.fi
SUMMARY:Kouvot - Tampereen Pyrintö
DESCRIPTION:
URL:https://kouvot.fi/ottelu/kouvot-tampereen-pyrinto-5/
LOCATION:MLL Areena\, Huovihongantie 5\, Kouvola\, 45200
CATEGORIES:Edustusjoukkueen kotiottelut
END:VEVENT
BEGIN:VEVENT
DTSTART;TZID=Europe/Helsinki:20240106T190000
DTEND;TZID=Europe/Helsinki:20240106T210000
DTSTAMP:20260423T133317
CREATED:20230715T093918Z
LAST-MODIFIED:20230715T093918Z
UID:2720-1704567600-1704574800@kouvot.fi
SUMMARY:Salon Vilpas - Kouvot
DESCRIPTION:
URL:https://kouvot.fi/ottelu/salon-vilpas-kouvot-5/
LOCATION:Salohalli\, Pormestarinkatu 5\, Salo\, 24100
CATEGORIES:Edustusjoukkueen vierasottelut
END:VEVENT
BEGIN:VEVENT
DTSTART;TZID=Europe/Helsinki:20240112T183000
DTEND;TZID=Europe/Helsinki:20240112T203000
DTSTAMP:20260423T133317
CREATED:20230715T094010Z
LAST-MODIFIED:20230715T094010Z
UID:2722-1705084200-1705091400@kouvot.fi
SUMMARY:Kouvot - Kataja Basket
DESCRIPTION:
URL:https://kouvot.fi/ottelu/kouvot-kataja-basket-6/
LOCATION:MLL Areena\, Huovihongantie 5\, Kouvola\, 45200
CATEGORIES:Edustusjoukkueen kotiottelut
END:VEVENT
BEGIN:VEVENT
DTSTART;TZID=Europe/Helsinki:20240116T183000
DTEND;TZID=Europe/Helsinki:20240116T203000
DTSTAMP:20260423T133317
CREATED:20230715T094054Z
LAST-MODIFIED:20230715T094054Z
UID:2724-1705429800-1705437000@kouvot.fi
SUMMARY:Kouvot - Korihait
DESCRIPTION:
URL:https://kouvot.fi/ottelu/kouvot-korihait-3/
LOCATION:MLL Areena\, Huovihongantie 5\, Kouvola\, 45200
CATEGORIES:Edustusjoukkueen kotiottelut
END:VEVENT
BEGIN:VEVENT
DTSTART;TZID=Europe/Helsinki:20240126T183000
DTEND;TZID=Europe/Helsinki:20240126T203000
DTSTAMP:20260423T133317
CREATED:20230715T094142Z
LAST-MODIFIED:20230715T094142Z
UID:2726-1706293800-1706301000@kouvot.fi
SUMMARY:Helsinki Seagulls - Kouvot
DESCRIPTION:
URL:https://kouvot.fi/ottelu/helsinki-seagulls-kouvot-5/
LOCATION:Töölön Kisahalli\, Paavo Nurmen kuja 1\, Helsinki\, 00250
CATEGORIES:Edustusjoukkueen vierasottelut
END:VEVENT
END:VCALENDAR