BEGIN:VCALENDAR
VERSION:2.0
PRODID:-//Kouvot | Kouvot Basket Oy - ECPv6.15.20//NONSGML v1.0//EN
CALSCALE:GREGORIAN
METHOD:PUBLISH
X-WR-CALNAME:Kouvot | Kouvot Basket Oy
X-ORIGINAL-URL:https://kouvot.fi
X-WR-CALDESC:Tapahtumat Kouvot | Kouvot Basket Oy
REFRESH-INTERVAL;VALUE=DURATION:PT1H
X-Robots-Tag:noindex
X-PUBLISHED-TTL:PT1H
BEGIN:VTIMEZONE
TZID:Europe/Helsinki
BEGIN:DAYLIGHT
TZOFFSETFROM:+0200
TZOFFSETTO:+0300
TZNAME:EEST
DTSTART:20230326T010000
END:DAYLIGHT
BEGIN:STANDARD
TZOFFSETFROM:+0300
TZOFFSETTO:+0200
TZNAME:EET
DTSTART:20231029T010000
END:STANDARD
BEGIN:DAYLIGHT
TZOFFSETFROM:+0200
TZOFFSETTO:+0300
TZNAME:EEST
DTSTART:20240331T010000
END:DAYLIGHT
BEGIN:STANDARD
TZOFFSETFROM:+0300
TZOFFSETTO:+0200
TZNAME:EET
DTSTART:20241027T010000
END:STANDARD
BEGIN:DAYLIGHT
TZOFFSETFROM:+0200
TZOFFSETTO:+0300
TZNAME:EEST
DTSTART:20250330T010000
END:DAYLIGHT
BEGIN:STANDARD
TZOFFSETFROM:+0300
TZOFFSETTO:+0200
TZNAME:EET
DTSTART:20251026T010000
END:STANDARD
BEGIN:DAYLIGHT
TZOFFSETFROM:+0200
TZOFFSETTO:+0300
TZNAME:EEST
DTSTART:20260329T010000
END:DAYLIGHT
BEGIN:STANDARD
TZOFFSETFROM:+0300
TZOFFSETTO:+0200
TZNAME:EET
DTSTART:20261025T010000
END:STANDARD
END:VTIMEZONE
BEGIN:VEVENT
DTSTART;TZID=Europe/Helsinki:20241004T183000
DTEND;TZID=Europe/Helsinki:20241004T203000
DTSTAMP:20260422T080901
CREATED:20240708T111304Z
LAST-MODIFIED:20240708T111304Z
UID:3364-1728066600-1728073800@kouvot.fi
SUMMARY:Kobrat - Kouvot
DESCRIPTION:
URL:https://kouvot.fi/ottelu/kobrat-kouvot-5/
LOCATION:Lapuan urheilutalo\, Urheilukatu 6\, Lapua\, 62100\, Suomi
CATEGORIES:Edustusjoukkueen vierasottelut
END:VEVENT
BEGIN:VEVENT
DTSTART;TZID=Europe/Helsinki:20241008T183000
DTEND;TZID=Europe/Helsinki:20241008T203000
DTSTAMP:20260422T080901
CREATED:20240708T111411Z
LAST-MODIFIED:20240708T111411Z
UID:3366-1728412200-1728419400@kouvot.fi
SUMMARY:Kouvot - Tapiolan Honka
DESCRIPTION:
URL:https://kouvot.fi/ottelu/kouvot-tapiolan-honka-2/
LOCATION:MLL Areena\, Huovihongantie 5\, Kouvola\, 45200
CATEGORIES:Edustusjoukkueen kotiottelut
END:VEVENT
BEGIN:VEVENT
DTSTART;TZID=Europe/Helsinki:20241011T183000
DTEND;TZID=Europe/Helsinki:20241011T203000
DTSTAMP:20260422T080901
CREATED:20240708T111522Z
LAST-MODIFIED:20240708T113401Z
UID:3368-1728671400-1728678600@kouvot.fi
SUMMARY:KTP-Basket - Kouvot
DESCRIPTION:
URL:https://kouvot.fi/ottelu/ktp-basket-kouvot-7/
LOCATION:Steveco areena\, Ututie 4\, Kotka\, Kymenlaakso\, 48350\, Suomi
CATEGORIES:Edustusjoukkueen vierasottelut
END:VEVENT
BEGIN:VEVENT
DTSTART;TZID=Europe/Helsinki:20241018T183000
DTEND;TZID=Europe/Helsinki:20241018T203000
DTSTAMP:20260422T080901
CREATED:20240708T113212Z
LAST-MODIFIED:20240708T115605Z
UID:3370-1729276200-1729283400@kouvot.fi
SUMMARY:Kouvot - Bisons Loimaa
DESCRIPTION:
URL:https://kouvot.fi/ottelu/kouvot-bisons-loimaa-4/
LOCATION:MLL Areena\, Huovihongantie 5\, Kouvola\, 45200
CATEGORIES:Edustusjoukkueen kotiottelut
END:VEVENT
BEGIN:VEVENT
DTSTART;TZID=Europe/Helsinki:20241022T183000
DTEND;TZID=Europe/Helsinki:20241022T203000
DTSTAMP:20260422T080901
CREATED:20240708T113525Z
LAST-MODIFIED:20240708T113525Z
UID:3372-1729621800-1729629000@kouvot.fi
SUMMARY:Kouvot - Salon Vilpas
DESCRIPTION:
URL:https://kouvot.fi/ottelu/kouvot-salon-vilpas-5/
LOCATION:MLL Areena\, Huovihongantie 5\, Kouvola\, 45200
CATEGORIES:Edustusjoukkueen kotiottelut
END:VEVENT
BEGIN:VEVENT
DTSTART;TZID=Europe/Helsinki:20241026T180000
DTEND;TZID=Europe/Helsinki:20241026T200000
DTSTAMP:20260422T080901
CREATED:20240708T113614Z
LAST-MODIFIED:20240708T113614Z
UID:3374-1729965600-1729972800@kouvot.fi
SUMMARY:Kauhajoki - Kouvot
DESCRIPTION:
URL:https://kouvot.fi/ottelu/kauhajoki-kouvot-5/
LOCATION:IKH Areena\, Kenttätie\, Kauhajoki\, Etelä-Pohjanmaa\, 61800\, Finland
CATEGORIES:Edustusjoukkueen vierasottelut
END:VEVENT
BEGIN:VEVENT
DTSTART;TZID=Europe/Helsinki:20241101T183000
DTEND;TZID=Europe/Helsinki:20241101T203000
DTSTAMP:20260422T080901
CREATED:20240708T113658Z
LAST-MODIFIED:20240708T113658Z
UID:3376-1730485800-1730493000@kouvot.fi
SUMMARY:Kouvot - Kataja Basket
DESCRIPTION:
URL:https://kouvot.fi/ottelu/kouvot-kataja-basket-7/
LOCATION:MLL Areena\, Huovihongantie 5\, Kouvola\, 45200
CATEGORIES:Edustusjoukkueen kotiottelut
END:VEVENT
BEGIN:VEVENT
DTSTART;TZID=Europe/Helsinki:20241106T183000
DTEND;TZID=Europe/Helsinki:20241106T203000
DTSTAMP:20260422T080901
CREATED:20240708T113804Z
LAST-MODIFIED:20240708T113804Z
UID:3378-1730917800-1730925000@kouvot.fi
SUMMARY:Korihait - Kouvot
DESCRIPTION:
URL:https://kouvot.fi/ottelu/korihait-kouvot-4/
LOCATION:Uusikaupunki Areena\, Pohjoistullitie 3\, Uusikaupunki\, 23500
CATEGORIES:Edustusjoukkueen vierasottelut
END:VEVENT
BEGIN:VEVENT
DTSTART;TZID=Europe/Helsinki:20241108T183000
DTEND;TZID=Europe/Helsinki:20241108T203000
DTSTAMP:20260422T080901
CREATED:20240708T114127Z
LAST-MODIFIED:20240708T114127Z
UID:3380-1731090600-1731097800@kouvot.fi
SUMMARY:Kouvot - Tampereen Pyrintö
DESCRIPTION:
URL:https://kouvot.fi/ottelu/kouvot-tampereen-pyrinto-7/
LOCATION:MLL Areena\, Huovihongantie 5\, Kouvola\, 45200
CATEGORIES:Edustusjoukkueen kotiottelut
END:VEVENT
BEGIN:VEVENT
DTSTART;TZID=Europe/Helsinki:20241115T183000
DTEND;TZID=Europe/Helsinki:20241115T203000
DTSTAMP:20260422T080901
CREATED:20240708T114242Z
LAST-MODIFIED:20240708T114242Z
UID:3382-1731695400-1731702600@kouvot.fi
SUMMARY:BC Nokia - Kouvot
DESCRIPTION:
URL:https://kouvot.fi/ottelu/bc-nokia-kouvot-6/
LOCATION:Nokian Palloiluareena
CATEGORIES:Edustusjoukkueen vierasottelut
END:VEVENT
BEGIN:VEVENT
DTSTART;TZID=Europe/Helsinki:20241129T183000
DTEND;TZID=Europe/Helsinki:20241129T203000
DTSTAMP:20260422T080901
CREATED:20240708T114341Z
LAST-MODIFIED:20240708T114341Z
UID:3385-1732905000-1732912200@kouvot.fi
SUMMARY:Kouvot - Helsinki Seagulls
DESCRIPTION:
URL:https://kouvot.fi/ottelu/kouvot-helsinki-seagulls-6/
LOCATION:MLL Areena\, Huovihongantie 5\, Kouvola\, 45200
CATEGORIES:Edustusjoukkueen kotiottelut
END:VEVENT
BEGIN:VEVENT
DTSTART;TZID=Europe/Helsinki:20241203T183000
DTEND;TZID=Europe/Helsinki:20241203T203000
DTSTAMP:20260422T080901
CREATED:20240708T114530Z
LAST-MODIFIED:20240708T114530Z
UID:3387-1733250600-1733257800@kouvot.fi
SUMMARY:Kouvot - Kobrat
DESCRIPTION:
URL:https://kouvot.fi/ottelu/kouvot-kobrat-6/
LOCATION:MLL Areena\, Huovihongantie 5\, Kouvola\, 45200
CATEGORIES:Edustusjoukkueen kotiottelut
END:VEVENT
BEGIN:VEVENT
DTSTART;TZID=Europe/Helsinki:20241210T183000
DTEND;TZID=Europe/Helsinki:20241210T203000
DTSTAMP:20260422T080901
CREATED:20240708T114712Z
LAST-MODIFIED:20240708T114712Z
UID:3389-1733855400-1733862600@kouvot.fi
SUMMARY:Tapiolan Honka - Kouvot
DESCRIPTION:
URL:https://kouvot.fi/ottelu/tapiolan-honka-kouvot-2/
LOCATION:Tapiolan liikuntahalli\, Urheilupuistontie 2\, Espoo\, 0220\, Finland
CATEGORIES:Edustusjoukkueen vierasottelut
END:VEVENT
BEGIN:VEVENT
DTSTART;TZID=Europe/Helsinki:20241215T170000
DTEND;TZID=Europe/Helsinki:20241215T190000
DTSTAMP:20260422T080901
CREATED:20240708T114803Z
LAST-MODIFIED:20240708T114803Z
UID:3391-1734282000-1734289200@kouvot.fi
SUMMARY:Kouvot - KTP-Basket
DESCRIPTION:
URL:https://kouvot.fi/ottelu/kouvot-ktp-basket-7/
LOCATION:MLL Areena\, Huovihongantie 5\, Kouvola\, 45200
CATEGORIES:Edustusjoukkueen kotiottelut
END:VEVENT
BEGIN:VEVENT
DTSTART;TZID=Europe/Helsinki:20241218T183000
DTEND;TZID=Europe/Helsinki:20241218T203000
DTSTAMP:20260422T080901
CREATED:20240708T114902Z
LAST-MODIFIED:20240708T114902Z
UID:3393-1734546600-1734553800@kouvot.fi
SUMMARY:Bisons Loimaa - Kouvot
DESCRIPTION:
URL:https://kouvot.fi/ottelu/bisons-loimaa-kouvot-4/
LOCATION:Loimaan liikuntahalli\, Puistokatu 16\, Loimaa\, 32200
CATEGORIES:Edustusjoukkueen vierasottelut
END:VEVENT
BEGIN:VEVENT
DTSTART;TZID=Europe/Helsinki:20241221T170000
DTEND;TZID=Europe/Helsinki:20241221T190000
DTSTAMP:20260422T080901
CREATED:20240708T114946Z
LAST-MODIFIED:20240708T114946Z
UID:3395-1734800400-1734807600@kouvot.fi
SUMMARY:Kataja Basket - Kouvot
DESCRIPTION:
URL:https://kouvot.fi/ottelu/kataja-basket-kouvot-6/
LOCATION:Motonet Areena\, Kisapolku 1\, Joensuu\, Pohjois-Karjala\, 80110\, Finland
CATEGORIES:Edustusjoukkueen vierasottelut
END:VEVENT
BEGIN:VEVENT
DTSTART;TZID=Europe/Helsinki:20241228T160000
DTEND;TZID=Europe/Helsinki:20241228T180000
DTSTAMP:20260422T080901
CREATED:20240708T115023Z
LAST-MODIFIED:20240708T115023Z
UID:3397-1735401600-1735408800@kouvot.fi
SUMMARY:Kouvot - Kauhajoki
DESCRIPTION:
URL:https://kouvot.fi/ottelu/kouvot-kauhajoki-4/
LOCATION:MLL Areena\, Huovihongantie 5\, Kouvola\, 45200
CATEGORIES:Edustusjoukkueen kotiottelut
END:VEVENT
BEGIN:VEVENT
DTSTART;TZID=Europe/Helsinki:20241230T183000
DTEND;TZID=Europe/Helsinki:20241230T203000
DTSTAMP:20260422T080901
CREATED:20240708T115109Z
LAST-MODIFIED:20240708T115109Z
UID:3399-1735583400-1735590600@kouvot.fi
SUMMARY:Salon Vilpas - Kouvot
DESCRIPTION:
URL:https://kouvot.fi/ottelu/salon-vilpas-kouvot-6/
LOCATION:Salohalli\, Pormestarinkatu 5\, Salo\, 24100
CATEGORIES:Edustusjoukkueen vierasottelut
END:VEVENT
BEGIN:VEVENT
DTSTART;TZID=Europe/Helsinki:20250103T183000
DTEND;TZID=Europe/Helsinki:20250103T203000
DTSTAMP:20260422T080901
CREATED:20240708T115211Z
LAST-MODIFIED:20240708T115211Z
UID:3401-1735929000-1735936200@kouvot.fi
SUMMARY:Kouvot - Korihait
DESCRIPTION:
URL:https://kouvot.fi/ottelu/kouvot-korihait-4/
LOCATION:MLL Areena\, Huovihongantie 5\, Kouvola\, 45200
CATEGORIES:Edustusjoukkueen kotiottelut
END:VEVENT
BEGIN:VEVENT
DTSTART;TZID=Europe/Helsinki:20250109T183000
DTEND;TZID=Europe/Helsinki:20250109T203000
DTSTAMP:20260422T080901
CREATED:20240708T115340Z
LAST-MODIFIED:20240708T115340Z
UID:3403-1736447400-1736454600@kouvot.fi
SUMMARY:Tampereen Pyrintö - Kouvot
DESCRIPTION:
URL:https://kouvot.fi/ottelu/tampereen-pyrinto-kouvot-6/
LOCATION:Pyynikin palloiluhalli
CATEGORIES:Edustusjoukkueen vierasottelut
END:VEVENT
BEGIN:VEVENT
DTSTART;TZID=Europe/Helsinki:20250114T183000
DTEND;TZID=Europe/Helsinki:20250114T203000
DTSTAMP:20260422T080901
CREATED:20240708T115431Z
LAST-MODIFIED:20240708T115431Z
UID:3405-1736879400-1736886600@kouvot.fi
SUMMARY:Kouvot - BC Nokia
DESCRIPTION:
URL:https://kouvot.fi/ottelu/kouvot-bc-nokia-5/
LOCATION:MLL Areena\, Huovihongantie 5\, Kouvola\, 45200
CATEGORIES:Edustusjoukkueen kotiottelut
END:VEVENT
BEGIN:VEVENT
DTSTART;TZID=Europe/Helsinki:20250118T170000
DTEND;TZID=Europe/Helsinki:20250118T190000
DTSTAMP:20260422T080901
CREATED:20240708T115517Z
LAST-MODIFIED:20240708T115517Z
UID:3407-1737219600-1737226800@kouvot.fi
SUMMARY:Helsinki Seagulls - Kouvot
DESCRIPTION:
URL:https://kouvot.fi/ottelu/helsinki-seagulls-kouvot-6/
LOCATION:Töölön Kisahalli\, Paavo Nurmen kuja 1\, Helsinki\, 00250
CATEGORIES:Edustusjoukkueen vierasottelut
END:VEVENT
BEGIN:VEVENT
DTSTART;TZID=Europe/Helsinki:20250125T180000
DTEND;TZID=Europe/Helsinki:20250125T200000
DTSTAMP:20260422T080901
CREATED:20250120T143835Z
LAST-MODIFIED:20250120T143835Z
UID:3664-1737828000-1737835200@kouvot.fi
SUMMARY:BC Nokia - Kouvot
DESCRIPTION:
URL:https://kouvot.fi/ottelu/bc-nokia-kouvot-7/
LOCATION:AGCO Power Arena\, Kankaantaankatu 6\, Nokia\, 37100\, Finland
CATEGORIES:Edustusjoukkueen vierasottelut
END:VEVENT
BEGIN:VEVENT
DTSTART;TZID=Europe/Helsinki:20250128T183000
DTEND;TZID=Europe/Helsinki:20250128T203000
DTSTAMP:20260422T080901
CREATED:20250120T142756Z
LAST-MODIFIED:20250120T142756Z
UID:3651-1738089000-1738096200@kouvot.fi
SUMMARY:Kouvot - Kobrat
DESCRIPTION:
URL:https://kouvot.fi/ottelu/kouvot-kobrat-7/
LOCATION:MLL Areena\, Huovihongantie 5\, Kouvola\, 45200
CATEGORIES:Edustusjoukkueen kotiottelut
ORGANIZER;CN="Kouvot Basket Oy":MAILTO:toimisto@kouvotbasket.fi
END:VEVENT
BEGIN:VEVENT
DTSTART;TZID=Europe/Helsinki:20250131T183000
DTEND;TZID=Europe/Helsinki:20250131T203000
DTSTAMP:20260422T080901
CREATED:20250120T144034Z
LAST-MODIFIED:20250120T144034Z
UID:3666-1738348200-1738355400@kouvot.fi
SUMMARY:Tapiolan Honka - Kouvot
DESCRIPTION:
URL:https://kouvot.fi/ottelu/tapiolan-honka-kouvot-3/
LOCATION:Tapiolan liikuntahalli\, Urheilupuistontie 2\, Espoo\, 0220\, Finland
CATEGORIES:Edustusjoukkueen vierasottelut
END:VEVENT
BEGIN:VEVENT
DTSTART;TZID=Europe/Helsinki:20250208T190000
DTEND;TZID=Europe/Helsinki:20250208T210000
DTSTAMP:20260422T080901
CREATED:20250120T144157Z
LAST-MODIFIED:20250120T145356Z
UID:3668-1739041200-1739048400@kouvot.fi
SUMMARY:KTP-Basket - Kouvot
DESCRIPTION:
URL:https://kouvot.fi/ottelu/ktp-basket-kouvot-8/
LOCATION:Steveco areena\, Ututie 4\, Kotka\, Kymenlaakso\, 48350\, Suomi
CATEGORIES:Edustusjoukkueen vierasottelut
END:VEVENT
BEGIN:VEVENT
DTSTART;TZID=Europe/Helsinki:20250214T183000
DTEND;TZID=Europe/Helsinki:20250214T203000
DTSTAMP:20260422T080901
CREATED:20250120T142904Z
LAST-MODIFIED:20250120T142904Z
UID:3653-1739557800-1739565000@kouvot.fi
SUMMARY:Kouvot - Tampereen Pyrintö
DESCRIPTION:
URL:https://kouvot.fi/ottelu/kouvot-tampereen-pyrinto-8/
LOCATION:MLL Areena\, Huovihongantie 5\, Kouvola\, 45200
CATEGORIES:Edustusjoukkueen kotiottelut
ORGANIZER;CN="Kouvot Basket Oy":MAILTO:toimisto@kouvotbasket.fi
END:VEVENT
BEGIN:VEVENT
DTSTART;TZID=Europe/Helsinki:20250301T170000
DTEND;TZID=Europe/Helsinki:20250301T190000
DTSTAMP:20260422T080901
CREATED:20250120T142956Z
LAST-MODIFIED:20250120T142956Z
UID:3655-1740848400-1740855600@kouvot.fi
SUMMARY:Kouvot - BC Nokia
DESCRIPTION:
URL:https://kouvot.fi/ottelu/kouvot-bc-nokia-6/
LOCATION:MLL Areena\, Huovihongantie 5\, Kouvola\, 45200
CATEGORIES:Edustusjoukkueen kotiottelut
ORGANIZER;CN="Kouvot Basket Oy":MAILTO:toimisto@kouvotbasket.fi
END:VEVENT
BEGIN:VEVENT
DTSTART;TZID=Europe/Helsinki:20250305T183000
DTEND;TZID=Europe/Helsinki:20250305T203000
DTSTAMP:20260422T080901
CREATED:20250120T144828Z
LAST-MODIFIED:20250120T145229Z
UID:3670-1741199400-1741206600@kouvot.fi
SUMMARY:Kobrat - Kouvot
DESCRIPTION:
URL:https://kouvot.fi/ottelu/kobrat-kouvot-6/
LOCATION:Lapuan urheilutalo\, Urheilukatu 6\, Lapua\, 62100\, Suomi
CATEGORIES:Edustusjoukkueen vierasottelut
END:VEVENT
BEGIN:VEVENT
DTSTART;TZID=Europe/Helsinki:20250308T160000
DTEND;TZID=Europe/Helsinki:20250308T180000
DTSTAMP:20260422T080901
CREATED:20250120T143100Z
LAST-MODIFIED:20250120T143100Z
UID:3657-1741449600-1741456800@kouvot.fi
SUMMARY:Kouvot - Tapiolan Honka
DESCRIPTION:
URL:https://kouvot.fi/ottelu/kouvot-tapiolan-honka-3/
LOCATION:MLL Areena\, Huovihongantie 5\, Kouvola\, 45200
CATEGORIES:Edustusjoukkueen kotiottelut
ORGANIZER;CN="Kouvot Basket Oy":MAILTO:toimisto@kouvotbasket.fi
END:VEVENT
END:VCALENDAR